BEGIN:VCALENDAR
VERSION:2.0
PRODID:-//Bespoke Falkirk - ECPv3.12//NONSGML v1.0//EN
CALSCALE:GREGORIAN
METHOD:PUBLISH
X-WR-CALNAME:Bespoke Falkirk
X-ORIGINAL-URL:http://www.bespokefalkirk.co.uk
X-WR-CALDESC:Events for Bespoke Falkirk
BEGIN:VEVENT
DTSTART:20131022T190000Z
DTEND:20131022T210000Z
DTSTAMP:20260425T211520Z
CREATED:20131002T114438Z
LAST-MODIFIED:20131002T114438Z
UID:308-1382468400-1382475600@www.bespokefalkirk.co.uk
SUMMARY:Guest Speaker: Patrick McGlinchey of Backwoods Survival School
DESCRIPTION:In a slight change of pace from our usual style of event\, we have invited Patrick McGlinchy of Backwoods Survival School who has recently featured in various TV programs such as BBC's Landward and Meet the Hasselhoffs\, to be our guest speaker for the evening.\n\nThis is a family orientated event and is an opportunity for young and old to hear stories of Patricks travels which have seen him encounter indigenous tribes from around the globe who are masters of working with nature for the provision of all their needs. Also hear how our ancestors would have lived right here in Scotland long before electricity or metal had been discovered.\n\nWith Patricks entertaining and often humorous story telling ability\, set in the Milk Barn\, a local ice cream parlor\, this is set to be an enjoyable evening for all.\n\nCheck out Backwoods Survival School's Website and Facebook Page!\n\nThe doors will open at 7pm for a 7.30pm start.\nTickets will be available on the door but hurry\, as we can only accommodate 50!
URL:http://www.bespokefalkirk.co.uk/events-diary/guest-speaker-patrick-mcglinchey-backwoods-survival-school/
LOCATION:Glen Farm\, Falkirk\, FK1 3AA\, United Kingdom
ORGANIZER;CN="Bespoke%20Falkirk":MAILTO:andy@gwcms.co.uk
END:VEVENT
END:VCALENDAR